BEGIN:VCALENDAR
PRODID:-//Veranstaltung//EN
VERSION:2.0
CALSCALE:GREGORIAN
BEGIN:VEVENT
DTSTART;VALUE=DATE-TIME:20260107T000000
DTEND;VALUE=DATE-TIME:20260109T235959
SUMMARY:Responsible Political Communication as a Safeguard of Democratic and Cognitive Space
LOCATION:
DESCRIPTION:The KAS Croatia-Slovenia Office is organising in cooperation with the Dr. Janez Evangelist Krek Institute (IJEK) a workshop on “Responsible Political Communication as a Safeguard of Democratic and Cognitive Space” as part of the Winter Study Days 2026 from January 7th to 9th, 2026, in Podčetrtek.
UID:
END:VEVENT
END:VCALENDAR