BEGIN:VCALENDAR
PRODID:-//Veranstaltung//EN
VERSION:2.0
CALSCALE:GREGORIAN
BEGIN:VEVENT
DTSTART;VALUE=DATE-TIME:20260124T000000
DTEND;VALUE=DATE-TIME:20260125T235959
SUMMARY:Responsible Political Communication as a Safeguard of Democracy
LOCATION:
DESCRIPTION:Das KAS-Auslandsbüro Kroatien-Slowenien veranstaltet gemeinsam mit dem Institut Dr. Janes Evangelsit Krek (IJEK) vom 24. bis 25. Januar 2026. in Podčetrtek ein Workshop zum Thema "Responsible Political Communication as a Safeguard of Democracy”.
UID:
END:VEVENT
END:VCALENDAR