BEGIN:VCALENDAR
PRODID:-//Veranstaltung//EN
VERSION:2.0
CALSCALE:GREGORIAN
BEGIN:VEVENT
DTSTART;VALUE=DATE-TIME:20260131T000000
DTEND;VALUE=DATE-TIME:20260201T235959
SUMMARY:Dialogue over Polarisation - Clear and Responsible Communication for a Strong Democracy
LOCATION:
DESCRIPTION:The KAS Croatia-Slovenia Office is organising in cooperation with the Dr. Janez Evangelist Krek Institute (IJEK) a workshop on “Dialogue over Polarisation - Clear and Responsible Communication for a Strong Democracy” from January 31st to February 1st, 2026, in Rimske Terme.
UID:
END:VEVENT
END:VCALENDAR