BEGIN:VCALENDAR
PRODID:-//Veranstaltung//EN
VERSION:2.0
CALSCALE:GREGORIAN
BEGIN:VEVENT
DTSTART;VALUE=DATE-TIME:20260225T000000
DTEND;VALUE=DATE-TIME:20260225T235959
SUMMARY:Women Parliamentarians and Security: Identifying Threats Through a Gender Lens
LOCATION:
DESCRIPTION:The Konrad-Adenauer-Stiftung (KAS) Regional Programme Political Dialogue Asia announces the next session of the Asian Women Parliamentarian Caucus (AWPC) e-Meets, to be held on 25 February 2026
UID:
END:VEVENT
END:VCALENDAR