BEGIN:VCALENDAR
PRODID:-//Veranstaltung//EN
VERSION:2.0
CALSCALE:GREGORIAN
BEGIN:VEVENT
DTSTART;VALUE=DATE-TIME:20260420T110000
DTEND;VALUE=DATE-TIME:20260522T170000
SUMMARY:Mit dem Demokratiebus quer durch Sachsen-Anhalt
LOCATION:
DESCRIPTION:Demokratie ist nicht selbstverständlich. Darauf machen wir mit unserer Demokratiegestalter-Tour aufmerksam. Mit dem Demokratiebus fahren wir quer durch Deutschland und wollen mit Ihnen ins Gespräch kommen: Was bewegt Sie? Was würden Sie verändern? Demokratie lebt davon, dass sich Menschen füreinander einsetzen; also lassen Sie uns zusammenkommen und Gemeinsam.Demokratie.Gestalten.
UID:
END:VEVENT
END:VCALENDAR