BEGIN:VCALENDAR
PRODID:-//Veranstaltung//EN
VERSION:2.0
CALSCALE:GREGORIAN
BEGIN:VEVENT
DTSTART;VALUE=DATE-TIME:20260504T000000
DTEND;VALUE=DATE-TIME:20260504T235959
SUMMARY:04.05.2026 - Meine Flucht aus der DDR - Zeitzeugengespräche in Bergen
LOCATION:
DESCRIPTION:
UID:
END:VEVENT
END:VCALENDAR