BEGIN:VCALENDAR
PRODID:-//Veranstaltung//EN
VERSION:2.0
CALSCALE:GREGORIAN
BEGIN:VEVENT
DTSTART;VALUE=DATE-TIME:20260225T180000
DTEND;VALUE=DATE-TIME:20260225T235959
SUMMARY:Diskussionsabend und eine Spendenaktion zur Unterstützung der Ukraine
LOCATION:Prag 2
DESCRIPTION:
UID:
END:VEVENT
END:VCALENDAR