BEGIN:VCALENDAR
PRODID:-//Veranstaltung//EN
VERSION:2.0
CALSCALE:GREGORIAN
BEGIN:VEVENT
DTSTART;VALUE=DATE-TIME:20260424T164500
DTEND;VALUE=DATE-TIME:20260425T153000
SUMMARY:Frauen den Rücken stärken
LOCATION:Hamburg
DESCRIPTION:mit Lisa Altenpohl, Kommunikationstrainering und Schauspielerin, Berlin
UID:
END:VEVENT
END:VCALENDAR