BEGIN:VCALENDAR
PRODID:-//Veranstaltung//EN
VERSION:2.0
CALSCALE:GREGORIAN
BEGIN:VEVENT
DTSTART;VALUE=DATE-TIME:20260222T000000
DTEND;VALUE=DATE-TIME:20260223T235959
SUMMARY:Förderung der Rechtskultur als wichtiger Entwicklungsfaktor für Neues Usbekistan
LOCATION:
DESCRIPTION:
UID:
END:VEVENT
END:VCALENDAR