BEGIN:VCALENDAR
PRODID:-//Veranstaltung//EN
VERSION:2.0
CALSCALE:GREGORIAN
BEGIN:VEVENT
DTSTART;VALUE=DATE-TIME:20260326T183000
DTEND;VALUE=DATE-TIME:20260326T200000
SUMMARY:Putins Kriege – Trumps Alleingänge
LOCATION:
DESCRIPTION:
UID:
END:VEVENT
END:VCALENDAR