BEGIN:VCALENDAR
PRODID:-//Veranstaltung//EN
VERSION:2.0
CALSCALE:GREGORIAN
BEGIN:VEVENT
DTSTART;VALUE=DATE-TIME:20260220T000000
DTEND;VALUE=DATE-TIME:20260222T235959
SUMMARY:KAS/ZHDZ Begabenakademie
LOCATION:Marija Bistrica
DESCRIPTION:Das KAS-Auslandsbüro Kroatien-Slowenien veranstaltet gemeinsam mit der HDZ-Stiftung (ZHDZ) vom 20. bis 22. Februar 2026 Marija Bistrica ein Workshop der Reihe: "KAS/ZHDZ Begabtenförderung" für Nachwuchspolitiker der HDZ.
UID:
END:VEVENT
END:VCALENDAR