BEGIN:VCALENDAR
PRODID:-//Veranstaltung//EN
VERSION:2.0
CALSCALE:GREGORIAN
BEGIN:VEVENT
DTSTART;VALUE=DATE-TIME:20260220T000000
DTEND;VALUE=DATE-TIME:20260222T235959
SUMMARY:Political Academy PLUS
LOCATION:Marija Bistrica
DESCRIPTION:Together with the Croatian Statehood Foundation (ZHDZ), the KAS Croatia-Slovenia Office is organizing from February 20th to 22nd, 2026 in Marija Bistrica a workshop of the series: "Political Academy PLUS".
UID:
END:VEVENT
END:VCALENDAR