BEGIN:VCALENDAR
PRODID:-//Veranstaltung//EN
VERSION:2.0
CALSCALE:GREGORIAN
BEGIN:VEVENT
DTSTART;VALUE=DATE-TIME:20260220T000000
DTEND;VALUE=DATE-TIME:20260222T235959
SUMMARY:Politička akademija PLUS
LOCATION:Marija Bistrica
DESCRIPTION:Ured KAS-a za Hrvatsku i Sloveniju organizira zajedno sa Zakladom hrvatskog državnog zavjeta (ZHDZ) od 20. do 22. veljče 2026. godine u Mariji Bistrici radionicu pod nazivom "Politička akademija PLUS".
UID:
END:VEVENT
END:VCALENDAR