BEGIN:VCALENDAR
PRODID:-//Veranstaltung//EN
VERSION:2.0
CALSCALE:GREGORIAN
BEGIN:VEVENT
DTSTART;VALUE=DATE-TIME:20260309T083000
DTEND;VALUE=DATE-TIME:20260309T143000
SUMMARY:Deutsch-brasilianischer Dialog
LOCATION:Rio de Janeiro
DESCRIPTION:In einem globalen Umfeld, das von tiefgreifenden Veränderungen geprägt ist, die multilaterale Institutionen und die Grundlagen der bestehenden internationalen Ordnung belasten, ist die Stärkung strategischer Partnerschaften von grundlegender Bedeutung für die Aufrechterhaltung eines stabilen und kooperativen internationalen Systems.
UID:
END:VEVENT
END:VCALENDAR