BEGIN:VCALENDAR
PRODID:-//Veranstaltung//EN
VERSION:2.0
CALSCALE:GREGORIAN
BEGIN:VEVENT
DTSTART;VALUE=DATE-TIME:20260309T083000
DTEND;VALUE=DATE-TIME:20260309T143000
SUMMARY:Brazil-Germany Dialogue
LOCATION:Rio de Janeiro
DESCRIPTION:In a global environment marked by profound changes that are straining multilateral institutions and the foundations of the existing international order, strengthening strategic partnerships is essential for maintaining a stable and cooperative international system.
UID:
END:VEVENT
END:VCALENDAR