BEGIN:VCALENDAR
PRODID:-//Veranstaltung//EN
VERSION:2.0
CALSCALE:GREGORIAN
BEGIN:VEVENT
DTSTART;VALUE=DATE-TIME:20260228T090000
DTEND;VALUE=DATE-TIME:20260228T121500
SUMMARY:Umgang mit Populismus in der Kommunalpolitik
LOCATION:
DESCRIPTION:Die Teilnahme ist kostenfrei. Anmeldungen bitte unter kas-brandenburg@kas.de
UID:
END:VEVENT
END:VCALENDAR