BEGIN:VCALENDAR
PRODID:-//Veranstaltung//EN
VERSION:2.0
CALSCALE:GREGORIAN
BEGIN:VEVENT
DTSTART;VALUE=DATE-TIME:20260505T170000
DTEND;VALUE=DATE-TIME:20260505T200000
SUMMARY:Onlinekurs: Schreiben mit KI, Mai 2026
LOCATION:
DESCRIPTION:Texte mithilfe von Künstlicher Intelligenz zu schreiben, steht jetzt allen offen. Aber welche konkreten Erleichterungen und Lösungen eröffnen sich dadurch? Wo liegen Grenzen und Gefahren? Der Crashkurs gibt die wichtigsten Antworten und vermittelt systematisch die entscheidenden Grundlagen.
UID:
END:VEVENT
END:VCALENDAR