BEGIN:VCALENDAR
PRODID:-//Veranstaltung//EN
VERSION:2.0
CALSCALE:GREGORIAN
BEGIN:VEVENT
DTSTART;VALUE=DATE-TIME:20260428T170000
DTEND;VALUE=DATE-TIME:20260428T200000
SUMMARY:Online: Crashkurs Redenschreiben, April 2026
LOCATION:
DESCRIPTION:Redenschreiben ist ein Handwerk, das klare Regeln verfolgt. Der Crashkurs vermittelt auf systematische Weise das entscheidende Handwerkszeug fürs professionelle Vorbereiten von Redemanuskripten.
UID:
END:VEVENT
END:VCALENDAR