BEGIN:VCALENDAR
PRODID:-//Veranstaltung//EN
VERSION:2.0
CALSCALE:GREGORIAN
BEGIN:VEVENT
DTSTART;VALUE=DATE-TIME:20260424T163000
DTEND;VALUE=DATE-TIME:20260425T143000
SUMMARY:Persönliche Kommunikation punktet in Politik & Ehrenamt!
LOCATION:
DESCRIPTION:
UID:
END:VEVENT
END:VCALENDAR