BEGIN:VCALENDAR
PRODID:-//Veranstaltung//EN
VERSION:2.0
CALSCALE:GREGORIAN
BEGIN:VEVENT
DTSTART;VALUE=DATE-TIME:20260225T110000
DTEND;VALUE=DATE-TIME:20260225T121500
SUMMARY:«La nueva SCJN y el futuro del Poder Judicial en México».
LOCATION:
DESCRIPTION:
UID:
END:VEVENT
END:VCALENDAR