BEGIN:VCALENDAR
PRODID:-//Veranstaltung//EN
VERSION:2.0
CALSCALE:GREGORIAN
BEGIN:VEVENT
DTSTART;VALUE=DATE-TIME:20260325T180000
DTEND;VALUE=DATE-TIME:20260325T235959
SUMMARY:Ein Konflikt im globalen Schaufenster: Einblicke der israelischen Militärführung in die Lage in Gaza
LOCATION:Hannover
DESCRIPTION:Vortrags- und Diskussionsveranstaltung in Zusammenarbeit mit dem Landesverband der Jüdischen Gemeinden in Niedersachsen K.d.ö.R. und dem Kommando Feldjäger der Bundeswehr.
UID:
END:VEVENT
END:VCALENDAR