BEGIN:VCALENDAR
PRODID:-//Veranstaltung//EN
VERSION:2.0
CALSCALE:GREGORIAN
BEGIN:VEVENT
DTSTART;VALUE=DATE-TIME:20260304T000000
DTEND;VALUE=DATE-TIME:20260305T235959
SUMMARY:Поддержка общественной активности молодёжи в регионах: образование, наука и предпринимательство
LOCATION:
DESCRIPTION:
UID:
END:VEVENT
END:VCALENDAR