BEGIN:VCALENDAR
PRODID:-//Veranstaltung//EN
VERSION:2.0
CALSCALE:GREGORIAN
BEGIN:VEVENT
DTSTART;VALUE=DATE-TIME:20260310T090000
DTEND;VALUE=DATE-TIME:20260310T154500
SUMMARY:"Smart-Solutions" für eine nachhaltige Stadtentwicklung
LOCATION:Zagreb
DESCRIPTION:Das KAS-Auslandsbüro Kroatien-Slowenien organisiert zusammen mit dem Wirtschaftsmagazin Lider am 10. März 2026 in Zagreb eine Konferenz mit dem Titel: "Smart-Solutions" für eine nachhaltige Stadtentwicklung".
UID:
END:VEVENT
END:VCALENDAR