BEGIN:VCALENDAR
PRODID:-//Veranstaltung//EN
VERSION:2.0
CALSCALE:GREGORIAN
BEGIN:VEVENT
DTSTART;VALUE=DATE-TIME:20260310T090000
DTEND;VALUE=DATE-TIME:20260310T154500
SUMMARY:"Smart Solutions" for Sustainable Urban Development
LOCATION:Zagreb
DESCRIPTION:Together with the business magazine Lider, the KAS Croatia-Slovenia Office is organising a conference on "Smart Solutions" for Sustainable Urban Development on March 10th, 2026 in Zagreb.
UID:
END:VEVENT
END:VCALENDAR