BEGIN:VCALENDAR
PRODID:-//Veranstaltung//EN
VERSION:2.0
CALSCALE:GREGORIAN
BEGIN:VEVENT
DTSTART;VALUE=DATE-TIME:20260310T090000
DTEND;VALUE=DATE-TIME:20260310T154500
SUMMARY:"Pametnim rješenjima" do održivoga grada
LOCATION:Zagreb
DESCRIPTION:Ured KAS-a za Hrvatsku i Sloveniju organizira zajedno s poslovnim tjednikom Lider 10. ožujka 2026. godine u Zagrebu konferenciju pod nazivom "Pametnim rješenjima do održivoga grada".
UID:
END:VEVENT
END:VCALENDAR