BEGIN:VCALENDAR
PRODID:-//Veranstaltung//EN
VERSION:2.0
CALSCALE:GREGORIAN
BEGIN:VEVENT
DTSTART;VALUE=DATE-TIME:20260423T103000
DTEND;VALUE=DATE-TIME:20260424T160000
SUMMARY:Jugendforum: Perspektiven. Geteilt!?
LOCATION:Teistungen
DESCRIPTION:
UID:
END:VEVENT
END:VCALENDAR