BEGIN:VCALENDAR
PRODID:-//Veranstaltung//EN
VERSION:2.0
CALSCALE:GREGORIAN
BEGIN:VEVENT
DTSTART;VALUE=DATE-TIME:20260925T160000
DTEND;VALUE=DATE-TIME:20260926T235959
SUMMARY:"Suchet der Stadt Bestes!" Christliches Menschenbild als Kompass für die kommunalpolitische Praxis
LOCATION:
DESCRIPTION:Entdecken Sie, wie das christliche Menschenbild als Kompass in der kommunalpolitischen Praxis Orientierung geben kann. Im Seminar „Suchet der Stadt Bestes!“ erwarten Sie inspirierende Impulse, praxisnahe Diskussionen und Raum für persönlichen Austausch. Seien Sie dabei und stärken Sie Ihr Engagement für gutes politisches Handeln vor Ort!
UID:
END:VEVENT
END:VCALENDAR