BEGIN:VCALENDAR
PRODID:-//Veranstaltung//EN
VERSION:2.0
CALSCALE:GREGORIAN
BEGIN:VEVENT
DTSTART;VALUE=DATE-TIME:20260304T120000
DTEND;VALUE=DATE-TIME:20260304T133000
SUMMARY:Українське суспільство, держава і церква в умовах миру і війни.
LOCATION:
DESCRIPTION:4 березня 2026 р. в НА "Укрінформ"відбудеться фахова дискусія на тему: «Українське суспільство, держава і церква в умовах миру і війни. Церковно-релігійна ситуація в Україні 2000–2025». Під час заходу будуть представлені результати соціологічного дослідження Центру Разумкова "Українське суспільство, держава і церква під час війни. Церковно-релігійна ситуація в україні-2025",  яке вже 25 років здійснюється за підтримки Фонду Конрада Аденауера в Україні. 
UID:
END:VEVENT
END:VCALENDAR