BEGIN:VCALENDAR
PRODID:-//Veranstaltung//EN
VERSION:2.0
CALSCALE:GREGORIAN
BEGIN:VEVENT
DTSTART;VALUE=DATE-TIME:20260424T000000
DTEND;VALUE=DATE-TIME:20260424T235959
SUMMARY:Lebendige Politik. Schüler besuchen den Landtag Brandenburgs
LOCATION:Potsdam
DESCRIPTION:
UID:
END:VEVENT
END:VCALENDAR