BEGIN:VCALENDAR
PRODID:-//Veranstaltung//EN
VERSION:2.0
CALSCALE:GREGORIAN
BEGIN:VEVENT
DTSTART;VALUE=DATE-TIME:20260322T000000
DTEND;VALUE=DATE-TIME:20260326T235959
SUMMARY:Delegation slowakischer politischer Vertreter nach Stuttgart und München
LOCATION:
DESCRIPTION:Vom 22. bis 26. März 2026 wird die Konrad‑Adenauer‑Stiftung Slowakei eine Delegation slowakischer politischer Vertreter nach Stuttgart und München führen, um sich mit bewährten Ansätzen der politischen Kommunikation vertraut zu machen.
UID:
END:VEVENT
END:VCALENDAR