BEGIN:VCALENDAR
PRODID:-//Veranstaltung//EN
VERSION:2.0
CALSCALE:GREGORIAN
BEGIN:VEVENT
DTSTART;VALUE=DATE-TIME:20260322T000000
DTEND;VALUE=DATE-TIME:20260326T235959
SUMMARY:Delegácia slovenských politických predstaviteľov v Štutgarte a Mníchove
LOCATION:
DESCRIPTION:Od 22. do 26. marca 2026 povedie Nadácia Konrad-Adenauer-Stiftung na Slovensku delegáciu slovenských politických predstaviteľov do Štutgartu a Mníchova, aby sa oboznámili s osvedčenými prístupmi v oblasti politickej komunikácie.
UID:
END:VEVENT
END:VCALENDAR