BEGIN:VCALENDAR
PRODID:-//Veranstaltung//EN
VERSION:2.0
CALSCALE:GREGORIAN
BEGIN:VEVENT
DTSTART;VALUE=DATE-TIME:20260615T074500
DTEND;VALUE=DATE-TIME:20260615T143000
SUMMARY:Global Security
LOCATION:Fulda
DESCRIPTION:Das Planspiel „Global Security“ simuliert eine Sitzung des Europäischen Rates zur Gemeinsamen Sicherheits- und Verteidigungspolitik der Europäische Union. Die Teilnehmenden übernehmen die Rollen von Staats- und Regierungschef*innen und vertreten die Interessen ihrer jeweiligen Mitgliedstaaten.
UID:
END:VEVENT
END:VCALENDAR