BEGIN:VCALENDAR
PRODID:-//Veranstaltung//EN
VERSION:2.0
CALSCALE:GREGORIAN
BEGIN:VEVENT
DTSTART;VALUE=DATE-TIME:20260327T000000
DTEND;VALUE=DATE-TIME:20260402T235959
SUMMARY:KASYP 16.3 Module: Local Governance and Development – Mongolia
LOCATION:
DESCRIPTION:Through expert lectures, comparative discussions, and interactive simulations, participants will examine key concepts of decentralisation, fiscal governance, and citizen engagement. The programme also includes sessions on the structure and competences of local governments, financial arrangements at the local level, and the challenges of implementing effective local governance systems in different political contexts.
The participants will also present and discuss governance experiences from their respective countries, allowing for peer learning and comparative insights across Asia and Europe. Practical exercises, including a policy simulation addressing urban governance challenges, will encourage participants to apply theoretical knowledge to real-world governance scenarios.
The module further features learning visits and dialogues with Mongolian political actors and institutions, including meetings with representatives of political parties, local government authorities, and members of parliament. These exchanges aim to provide participants with firsthand insights into Mongolia’s governance system and ongoing decentralisation reforms.
By combining academic input, practical policy exercises, and institutional exchanges, the module seeks to deepen participants’ understanding of how effective local governance can contribute to democratic resilience, responsive policymaking, and sustainable development.
UID:
END:VEVENT
END:VCALENDAR