BEGIN:VCALENDAR
PRODID:-//Veranstaltung//EN
VERSION:2.0
CALSCALE:GREGORIAN
BEGIN:VEVENT
DTSTART;VALUE=DATE-TIME:20260421T113000
DTEND;VALUE=DATE-TIME:20260421T131500
SUMMARY:„Mein Großvater hätte mich erschossen“
LOCATION:
DESCRIPTION:In ihrem Buch „Amon. Mein Großvater hätte mich erschossen“ schildert Jennifer Teege, wie die überraschende Entdeckung ihrer familiären Verbindung zu Amon Göth – bekannt aus Schindlers Liste – ihr Leben erschütterte und sie dazu brachte, sich intensiv mit Fragen von Identität, Verantwortung und Erinnerungskultur zu beschäftigen. Im Austausch mit Schülerinnen und Schülern in Halle (Saale) wird Jennifer Teege über ihren persönlichen Weg, ihre Recherchen und den Umgang mit dieser belastenden Vergangenheit sprechen.
UID:
END:VEVENT
END:VCALENDAR