BEGIN:VCALENDAR
PRODID:-//Veranstaltung//EN
VERSION:2.0
CALSCALE:GREGORIAN
BEGIN:VEVENT
DTSTART;VALUE=DATE-TIME:20260320T120000
DTEND;VALUE=DATE-TIME:20260320T123000
SUMMARY:Energiewende und Klimaschutz zwischen Anspruch und Alltag - Wie mit Immobilien im ländlichen Raum umgegangen werden kann
LOCATION:
DESCRIPTION:
UID:
END:VEVENT
END:VCALENDAR