BEGIN:VCALENDAR
PRODID:-//Veranstaltung//EN
VERSION:2.0
CALSCALE:GREGORIAN
BEGIN:VEVENT
DTSTART;VALUE=DATE-TIME:20260320T000000
DTEND;VALUE=DATE-TIME:20260322T235959
SUMMARY:Wehrlos oder nicht? Demokratie im Zeitalter sozialer Netzwerke schützen
LOCATION:Turda
DESCRIPTION:Die Konrad-Adenauer-Stiftung freut sich, in diesem Jahr eine der Diskussionen im Rahmen des Rațiu Forums „Journalism Masterclass 2026” organisieren zu dürfen, eine Partnerschaft zwischen LSE IDEAS (London School of Economics), der Ratiu Foundation und der Britischen Botschaft in Bukarest.
UID:
END:VEVENT
END:VCALENDAR