BEGIN:VCALENDAR
PRODID:-//Veranstaltung//EN
VERSION:2.0
CALSCALE:GREGORIAN
BEGIN:VEVENT
DTSTART;VALUE=DATE-TIME:20260320T000000
DTEND;VALUE=DATE-TIME:20260322T235959
SUMMARY:Defenceless or Not? Safeguarding Democracy in the Age of Social Networks
LOCATION:Turda
DESCRIPTION:This year the Konrad Adenauer Foundation is happy to host one of the panels at the 2026 Rațiu Forum Journalism Masterclass, a partnership between LSE IDEAS (London School of Economics), the Rațiu Foundation and the British Embassy Bucharest.
UID:
END:VEVENT
END:VCALENDAR