BEGIN:VCALENDAR
PRODID:-//Veranstaltung//EN
VERSION:2.0
CALSCALE:GREGORIAN
BEGIN:VEVENT
DTSTART;VALUE=DATE-TIME:20260320T000000
DTEND;VALUE=DATE-TIME:20260322T235959
SUMMARY:Lipsită de apărare sau nu? Protejarea democrației în era rețelelor sociale
LOCATION:Turda
DESCRIPTION:Anul acesta, Fundația Konrad Adenauer are plăcerea de a organiza una dintre mesele rotunde din cadrul Rațiu Forum Journalism Masterclass 2026, un parteneriat între LSE IDEAS (London School of Economics), Fundația Rațiu și Ambasada Marii Britanii.
UID:
END:VEVENT
END:VCALENDAR