BEGIN:VCALENDAR
PRODID:-//Veranstaltung//EN
VERSION:2.0
CALSCALE:GREGORIAN
BEGIN:VEVENT
DTSTART;VALUE=DATE-TIME:20260306T000000
DTEND;VALUE=DATE-TIME:20260306T235959
SUMMARY:Международен ден на жената
LOCATION:
DESCRIPTION:Проява в сътрудничество с ГБИTK по случай международния ден на жената.
UID:
END:VEVENT
END:VCALENDAR