BEGIN:VCALENDAR
PRODID:-//Veranstaltung//EN
VERSION:2.0
CALSCALE:GREGORIAN
BEGIN:VEVENT
DTSTART;VALUE=DATE-TIME:20260306T000000
DTEND;VALUE=DATE-TIME:20260306T235959
SUMMARY:International Women's Day
LOCATION:
DESCRIPTION:Eine Veranstaltung zum Internationalen Frauentag in Zusammenarbeit mit der DBIHK.
UID:
END:VEVENT
END:VCALENDAR