BEGIN:VCALENDAR
PRODID:-//Veranstaltung//EN
VERSION:2.0
CALSCALE:GREGORIAN
BEGIN:VEVENT
DTSTART;VALUE=DATE-TIME:20261120T153000
DTEND;VALUE=DATE-TIME:20261122T140000
SUMMARY:Erfolgreiches Fundraising für Verein und Ehrenamt
LOCATION:Obermarchtal
DESCRIPTION:
UID:
END:VEVENT
END:VCALENDAR