BEGIN:VCALENDAR
PRODID:-//Veranstaltung//EN
VERSION:2.0
CALSCALE:GREGORIAN
BEGIN:VEVENT
DTSTART;VALUE=DATE-TIME:20260428T181500
DTEND;VALUE=DATE-TIME:20260428T191500
SUMMARY:Demokratie unter Druck
LOCATION:
DESCRIPTION:Populisten nutzen politische Stimmungen in der Öffentlichkeit aus, um die Bürgerinnen und Bürger gegen Demokratie, Parteien und Parlamente aufzubringen. Was setzen die Parteien der Mitte dem entgegen?
UID:
END:VEVENT
END:VCALENDAR