BEGIN:VCALENDAR
PRODID:-//Veranstaltung//EN
VERSION:2.0
CALSCALE:GREGORIAN
BEGIN:VEVENT
DTSTART;VALUE=DATE-TIME:20260314T000000
DTEND;VALUE=DATE-TIME:20260314T235959
SUMMARY:Revisión prospectiva de los resultados del  Partido Unidad Social Cristiana
LOCATION:
DESCRIPTION:Facilitar un espacio de reflexión crítico inclusivo, riguroso y sistemático que analice el resultado obtenido por la agrupación en las elecciones nacionales de febrero de 2026, a partir de la identificación de causas internas y externas debidamente caracterizadas y sustentadas y provea de insumos al proceso de elaboración.
UID:
END:VEVENT
END:VCALENDAR