BEGIN:VCALENDAR
PRODID:-//Veranstaltung//EN
VERSION:2.0
CALSCALE:GREGORIAN
BEGIN:VEVENT
DTSTART;VALUE=DATE-TIME:20260327T000000
DTEND;VALUE=DATE-TIME:20260327T235959
SUMMARY:Capacitación técnica: Apropiación de la dinámica legislativa
LOCATION:
DESCRIPTION:Participantes: Integrante Bancada Parlamentaria PUSC 2026-2030 y equipo de trabajo
UID:
END:VEVENT
END:VCALENDAR