BEGIN:VCALENDAR
PRODID:-//Veranstaltung//EN
VERSION:2.0
CALSCALE:GREGORIAN
BEGIN:VEVENT
DTSTART;VALUE=DATE-TIME:20260227T000000
DTEND;VALUE=DATE-TIME:20260227T120000
SUMMARY:Parlamento Joven de Mujeres por el Clima
LOCATION:
DESCRIPTION:
UID:
END:VEVENT
END:VCALENDAR