BEGIN:VCALENDAR
PRODID:-//Veranstaltung//EN
VERSION:2.0
CALSCALE:GREGORIAN
BEGIN:VEVENT
DTSTART;VALUE=DATE-TIME:20260312T000000
DTEND;VALUE=DATE-TIME:20260314T235959
SUMMARY:Regionale Sicherheitsherausforderungen in Zeiten globaler geopolitischer Verschiebungen
LOCATION:
DESCRIPTION:Das Büro der Konrad-Adenauer-Stiftung in Skopje organisiert gemeinsam mit unserer Schwesterstiftung in Brüssel, dem Wilfried Martens Centre for European Studies, eine regionale Studierendeninitiative – die sogenannte Regional School Security 2026 – mit dem Titel „Regionale Sicherheitsherausforderungen in Zeiten globaler geopolitischer Verschiebungen“.
UID:
END:VEVENT
END:VCALENDAR