BEGIN:VCALENDAR
PRODID:-//Veranstaltung//EN
VERSION:2.0
CALSCALE:GREGORIAN
BEGIN:VEVENT
DTSTART;VALUE=DATE-TIME:20260312T000000
DTEND;VALUE=DATE-TIME:20260314T235959
SUMMARY:Regional security challenges in times of global geopolitical shifts
LOCATION:
DESCRIPTION:The Office of the Konrad Adenauer Foundation in Skopje together with our sister foundation from Brussels, the Wilfried Martens Centre for European Studies, is organizing a regional student exchange initiative, a so-called Regional School Security 2026 titled as “Regional security challenges in times of global geopolitical shifts”. The initiative gathers students and experts from the region, in order to discuss regional security challenges and possibilities for regional exchange and cooperation.
UID:
END:VEVENT
END:VCALENDAR