BEGIN:VCALENDAR
PRODID:-//Veranstaltung//EN
VERSION:2.0
CALSCALE:GREGORIAN
BEGIN:VEVENT
DTSTART;VALUE=DATE-TIME:20260226T000000
DTEND;VALUE=DATE-TIME:20260226T235959
SUMMARY:Moldova’s EU integration
LOCATION:Brüssel
DESCRIPTION:Hosted by the Europe Office of the Konrad Adenauer Foundation, this event will use the Eastern Partnership Civil Society Index 2025, together with the 2021 and 2023 editions, to unpack Moldova’s EU integration trajectory and its implications for the EU’s enlargement and neighbourhood policies. How does Moldova’s performance in the EaP Index reflect its progress in political association, economic integration and rule-of-law reforms? What role do civil society, independent media and public administration reform play in monitoring, advancing and sustaining the country’s EU integration agenda? And what lessons can be drawn from Moldova’s experience for the EU’s engagement with other Eastern Partnership countries?
These and other timely questions will be addressed during our index presentation and roundtable discussion “Moldova’s EU integration: an analysis through the lens of the Eastern Partnership Index”. For the presentation of the index findings, we are pleased to welcome Alexandra Sabou, Advocacy and EaP Index Manager at the Eastern Partnership Civil Society Forum. For the subsequent panel reflection, we will furthermore be joined by H.E. Daniela Morari, Ambassador of the Republic of Moldova to the EU, and Allan Jones, Head of Unit C.2 (“Moldova”) at DG ENEST. The discussion will be moderated by Alexandra Sabou and will be held under Chatham House Rules.
UID:
END:VEVENT
END:VCALENDAR