BEGIN:VCALENDAR
PRODID:-//Veranstaltung//EN
VERSION:2.0
CALSCALE:GREGORIAN
BEGIN:VEVENT
DTSTART;VALUE=DATE-TIME:20260309T000000
DTEND;VALUE=DATE-TIME:20260311T235959
SUMMARY:Polarization, personalization, and popularity
LOCATION:
DESCRIPTION:Weltweit erlebt die Politik einen tiefgreifenden Wandel. Ehemals dominante Parteien der Mitte kämpfen darum, an der Macht zu bleiben – unter dem Druck neuer populistischer Bewegungen von rechts- und linksaußen. Angetrieben wird dieser Trend von einem gesellschaftlichen Klima, in dem wirtschaftliche, demografische und technologische Herausforderungen die Wählerschaft spalten und tiefe Gräben aufreißen, die liberale Demokratien in ihren Grundfesten erschüttern können.

Das Seminar brachte ausländische und japanische Wissenschaftler sowie politische Experten zusammen, um diese neue politische Landschaft in verschiedenen regionalen Kontexten zu beleuchten. In einzelnen Sitzungen wurden die unterschiedlichen gesellschaftlichen Faktoren diskutiert, auf die politische Parteien heute reagieren müssen.
UID:
END:VEVENT
END:VCALENDAR