BEGIN:VCALENDAR
PRODID:-//Veranstaltung//EN
VERSION:2.0
CALSCALE:GREGORIAN
BEGIN:VEVENT
DTSTART;VALUE=DATE-TIME:20260309T000000
DTEND;VALUE=DATE-TIME:20260311T235959
SUMMARY:二極化、パーソナライゼーション、そして大衆迎合
LOCATION:
DESCRIPTION:世界各地で、政治のあり方が劇的な変容を遂げている。従来の主流を担ってきた中道政党は、極右・極左双方から台頭するポピュリスト政党の挑戦を受け、政権維持に苦慮している。その背景には、経済的・人口動態的・技術的課題が有権者の間に深い亀裂をもたらし、自由民主主義体制を揺るがしかねない分断を生み出しつつある社会状況がある。

本セミナーでは、国内外の研究者や政治専門家が一堂に会し、地域ごとの文脈を踏まえながらこの新たな政治地図を多角的に検討した。各セッションでは、政党が対応を迫られているさまざまな社会的要因について議論が交わされた。
UID:
END:VEVENT
END:VCALENDAR